BEGIN:VCALENDAR
VERSION:2.0
PRODID:icalendar-ruby
CALSCALE:GREGORIAN
METHOD:PUBLISH
BEGIN:VEVENT
DTSTAMP:20260421T083108Z
UID:212-33570@bcsynod.org
DTSTART:20260425T170000Z
DTEND:20260425T190000Z
CLASS:PUBLIC
CREATED:20260330T105855
DESCRIPTION:You’re Invited!\nJoin us for a morning with the Rev. Dr. Will
 iam Harrison\, President of Lutheran\nTheological Seminary\, as he introdu
 ces his new book Leadership in a Shrinking Church:\nFinding New Vision in 
 Unlikely Places. We invite you to come and bring a parish team.\nTogether\
 , we will explore ways that we can respond to God’s love when people are
 n’t\njoining churches (or any voluntary organizations!). All are welcome
 !
LAST-MODIFIED:20260330T105855
LOCATION:Spirit of Life\, Vancouver
SUMMARY:LTS President Rev. Dr. Harrison's workshop
URL;VALUE=URI:https://www.bcsynod.org/events/lts-president-rev-dr-harrisons
 -workshop/2026-04-25
ATTACH;FILENAME=Vancouver-1.jpg;FMTTYPE=image/jpeg:https://dq5pwpg1q8ru0.cl
 oudfront.net/2026/03/30/17/57/04/7c02c779-9e45-42b5-a866-576da4e20f5c/Vanc
 ouver-1.jpg
ATTACH;FILENAME=Vancouver (1).jpg;FMTTYPE=image/jpeg:https://dq5pwpg1q8ru0.
 cloudfront.net/2026/03/30/17/58/06/27678d9f-5afe-4fa1-abae-e027b631b75b/Va
 ncouver%20(1).jpg
END:VEVENT
END:VCALENDAR
